View In:
ArcGIS JavaScript
ArcGIS Online Map Viewer
ArcGIS Earth
Service Description: Default
Name: Default
Description:
Single Fused Map Cache: false
Extent:
XMin: -1.2592141568381839E7
YMin: 4534807.641995379
XMax: -1.2587768103132656E7
YMax: 4539530.281949276
Spatial Reference: 102100
(3857)
LatestVCSWkid(0)
Initial Extent:
XMin: -1.2592141568381839E7
YMin: 4534807.641995379
XMax: -1.2587768103132656E7
YMax: 4539530.281949276
Spatial Reference: 102100
(3857)
LatestVCSWkid(0)
Full Extent:
XMin: -1.2592141568381839E7
YMin: 4534807.641995379
XMax: -1.2587768103132656E7
YMax: 4539530.281949276
Spatial Reference: 102100
(3857)
LatestVCSWkid(0)
Pixel Size X: 1.0290506468665075
Pixel Size Y: 1.7173236195990307
Band Count: 4
Pixel Type: U8
RasterFunction Infos: {"rasterFunctionInfos": [{
"name": "None",
"description": "",
"help": ""
}]}
Mensuration Capabilities: Basic
Inspection Capabilities:
Has Histograms: true
Has Colormap: false
Has Multi Dimensions : false
Rendering Rule:
Min Scale: 0
Max Scale: 0
Copyright Text:
Service Data Type: esriImageServiceDataTypeGeneric
Min Values: 1, 6, 0, 255
Max Values: 255, 255, 255, 255
Mean Values: 241.54884269519, 242.3394246845, 241.47932551873, 255
Standard Deviation Values: 37.352036749792, 35.806090188552, 36.764103809805, 0
Object ID Field:
Fields:
None
Default Mosaic Method: Center
Allowed Mosaic Methods:
SortField:
SortValue: null
Mosaic Operator: First
Default Compression Quality: 75
Default Resampling Method: Bilinear
Max Record Count: null
Max Image Height: 4100
Max Image Width: 15000
Max Download Image Count: null
Max Mosaic Image Count: null
Allow Raster Function: true
Allow Copy: true
Allow Analysis: true
Allow Compute TiePoints: false
Supports Statistics: false
Supports Advanced Queries: false
Use StandardizedQueries: true
Raster Type Infos:
Name: Raster Dataset
Description: Supports all ArcGIS Raster Datasets
Help:
Has Raster Attribute Table: false
Edit Fields Info: null
Ownership Based AccessControl For Rasters: null
Child Resources:
Info
Histograms
Statistics
Key Properties
Legend
Raster Function Infos
Supported Operations:
Export Image
Identify
Measure
Compute Histograms
Compute Statistics Histograms
Get Samples
Compute Class Statistics
Query Boundary
Compute Pixel Location
Compute Angles
Validate
Project